BEGIN:VCALENDAR
PRODID:-//kirchenweb.ch gmbh//veranstaltungsausgabe v2.0//DE
VERSION:2.0
METHOD:PUBLISH
BEGIN:VEVENT
DTSTART:20261025T090000Z
DTEND:20261025T100000Z
LOCATION:Kirche Oberhallau\, Mitteldorfstrasse\, 8216 Oberhallau
TRANSP:OPAQUE
SEQUENCE:0
UID:186226-veranstaltung@ref-sh.ch
DTSTAMP:20260122T183203Z
DESCRIPTION:Feierlich mitgestaltet wird der Gottesdienst zu Erntedank
  durch den Gemischten Chor Oberhallau. Alljährlich zum
  Erntedankgottesdienst eingeladen sind die Bewohner*innen der Stiftung
  Ungarbühl. \n\n\nKontakt: Daniela Scherello\n\nWeitere Infos:
  https://www.ref-sh.ch/veranstaltung/186226
SUMMARY:Gottesdienst zu Erntedank
PRIORITY:5
X-MICROSOFT-CDO-IMPORTANCE:1
CLASS:PUBLIC
END:VEVENT
END:VCALENDAR
