BEGIN:VCALENDAR
PRODID:-//kirchenweb.ch gmbh//veranstaltungsausgabe v2.0//DE
VERSION:2.0
METHOD:PUBLISH
BEGIN:VEVENT
DTSTART:20261011T080000Z
DTEND:20261011T090000Z
LOCATION:Kirche Oberhallau\, Mitteldorfstrasse\, 8216 Oberhallau
TRANSP:OPAQUE
SEQUENCE:0
UID:186225-veranstaltung@ref-sh.ch
DTSTAMP:20260127T133716Z
DESCRIPTION:Die Kirchgemeinde Oberhallau pflegt das reformatorische Ideal
  eines Laiengottesdienstes. Der Laiengottesdienst wird alljährlich im
  Herbst von engagierten Kirchgemeindemitgliedern organisiert. \n\nKontakt:
  daniela.scherello@ref-sh.ch\n\nWeitere Infos:
  https://www.ref-sh.ch/veranstaltung/186225
SUMMARY:Regio-Gottesdienst (Laiengottesdienst)
PRIORITY:5
X-MICROSOFT-CDO-IMPORTANCE:1
CLASS:PUBLIC
END:VEVENT
END:VCALENDAR
