BEGIN:VCALENDAR
PRODID:-//kirchenweb.ch gmbh//veranstaltungsausgabe v2.0//DE
VERSION:2.0
METHOD:PUBLISH
BEGIN:VEVENT
DTSTART:20260830T070000Z
DTEND:20260830T072000Z
LOCATION:Oberhallau\, \,
TRANSP:OPAQUE
SEQUENCE:0
UID:186223-veranstaltung@ref-sh.ch
DTSTAMP:20250811T100944Z
DESCRIPTION:Jedes Jahr am letzten Wochenende im August findet das
  alljährliche Bergrennen in Oberhallau statt. Da darf natürlich auch
  kein Beitrag der Kirche fehlen.\nWährend alle Motoren ruhen\, lauscht
  ein ganzes Dorf der Predigt - eine einmalige Atmosphäre.\n\n\nKontakt:
  Pfarrerin Daniela Scherello\n\nWeitere Infos:
  https://www.ref-sh.ch/veranstaltung/186223
SUMMARY:Bergrennen Gottesdienst
PRIORITY:5
X-MICROSOFT-CDO-IMPORTANCE:1
CLASS:PUBLIC
END:VEVENT
END:VCALENDAR
