BEGIN:VCALENDAR
PRODID:-//kirchenweb.ch gmbh//veranstaltungsausgabe v2.0//DE
VERSION:2.0
METHOD:PUBLISH
BEGIN:VEVENT
DTSTART:20260809T083000Z
DTEND:20260809T093000Z
LOCATION:Kirche Oberhallau\, Mitteldorfstrasse\, 8216 Oberhallau
TRANSP:OPAQUE
SEQUENCE:0
UID:186222-veranstaltung@ref-sh.ch
DTSTAMP:20260118T073647Z
DESCRIPTION:Gottesdienst zum Schulstart mit Segnung der Schüler*innen.\n
 \nKontakt: Daniela Scherello\n\nWeitere Infos:
  https://www.ref-sh.ch/veranstaltung/186222
SUMMARY:Gottesdienst zum Schulstart
PRIORITY:5
X-MICROSOFT-CDO-IMPORTANCE:1
CLASS:PUBLIC
END:VEVENT
END:VCALENDAR
