BEGIN:VCALENDAR
PRODID:-//kirchenweb.ch gmbh//veranstaltungsausgabe v2.0//DE
VERSION:2.0
METHOD:PUBLISH
BEGIN:VEVENT
DTSTART:20260712T090000Z
DTEND:20260712T100000Z
LOCATION:im Fohrenwäldli\, \, 8216 Oberhallau
TRANSP:OPAQUE
SEQUENCE:0
UID:186221-veranstaltung@ref-sh.ch
DTSTAMP:20260120T102559Z
DESCRIPTION:Regio-Gottesdienst zum legendären Waldfest. \nBei Regen
  Gottesdienst in der Kirche Oberhallau.\n\nKontakt: Pfarrerin Daniela
  Scherello\n\nWeitere Infos: https://www.ref-sh.ch/veranstaltung/186221
SUMMARY:Regio-Gottesdienst zum Waldfest
PRIORITY:5
X-MICROSOFT-CDO-IMPORTANCE:1
CLASS:PUBLIC
END:VEVENT
END:VCALENDAR
