BEGIN:VCALENDAR
PRODID:-//kirchenweb.ch gmbh//veranstaltungsausgabe v2.0//DE
VERSION:2.0
METHOD:PUBLISH
BEGIN:VEVENT
DTSTART:20260607T073000Z
DTEND:20260607T083000Z
LOCATION:Kirche Oberhallau \, Mitteldorfstrasse 11\, 8216 Oberhallau
TRANSP:OPAQUE
SEQUENCE:0
UID:186219-veranstaltung@ref-sh.ch
DTSTAMP:20260211T184140Z
DESCRIPTION:Gottesdienstgestaltung und Predigt: Judith Schaad.
 \nverantwortliche Ansprechperson: Pfarrerin Daniela Scherello.\n\nKontakt:
  Pfarrerin Daniela Scherello\n\nWeitere Infos:
  https://www.ref-sh.ch/veranstaltung/186219
SUMMARY:Gottesdienst
PRIORITY:5
X-MICROSOFT-CDO-IMPORTANCE:1
CLASS:PUBLIC
END:VEVENT
END:VCALENDAR
