BEGIN:VCALENDAR
PRODID:-//kirchenweb.ch gmbh//veranstaltungsausgabe v2.0//DE
VERSION:2.0
METHOD:PUBLISH
BEGIN:VEVENT
DTSTART:20260524T073000Z
DTEND:20260524T083000Z
LOCATION:Kirche Oberhallau\, Mitteldorfstrasse 11\, 8216 Oberhallau
TRANSP:OPAQUE
SEQUENCE:0
UID:186218-veranstaltung@ref-sh.ch
DTSTAMP:20260211T184243Z
DESCRIPTION:Gottesdienst mit Abendmahl\nGottesdienstgestaltung und
  Predigt: Selina Knöpfli.\nverantwortliche Ansprechperson und
  Zuständigkeit Abendmahl: Pfarrerin Daniela Scherello.\n\nKontakt:
  Daniela Scherello\n\nWeitere Infos:
  https://www.ref-sh.ch/veranstaltung/186218
SUMMARY:Gottesdienst zu Pfingsten mit Abendmahl
PRIORITY:5
X-MICROSOFT-CDO-IMPORTANCE:1
CLASS:PUBLIC
END:VEVENT
END:VCALENDAR
