BEGIN:VCALENDAR
PRODID:-//kirchenweb.ch gmbh//veranstaltungsausgabe v2.0//DE
VERSION:2.0
METHOD:PUBLISH
BEGIN:VEVENT
DTSTART:20250914T160000Z
DTEND:20250914T170000Z
LOCATION:Kirche\, Dorfstrasse\, 8454 Buchberg-Rüdlingen
TRANSP:OPAQUE
SEQUENCE:0
UID:185899-veranstaltung@ref-sh.ch
DTSTAMP:20250905T131103Z
DESCRIPTION:Unser Organist Václav Hřebec stellt Orgelwerke aus der
  Reformationszeit vor. \n\nNeben überwiegend anonym überlieferten
  Kompositionen erklingen auch Werke von Arnolt Schlick\, Hans Buchner und
  Thomas Tallis. Freuen Sie sich auf zahlreiche neuentdeckte oder
  rekonstruierte Werke\, die nach über 500 Jahren erstmals wieder zum
  Klingen gebracht werden.\n\nAus dem Programm:\n\nMarco Antonio Cavazzoni
  (ca. 1490–ca. 1550)\n•	Ricercada de III tuono\n•	Madame\, vous aves
  mon cuor\n\nJulio Segni da Modena\n•	Ricercar primo modo\n\nThomas
  Tallis (1505–1585)\n•	Iam lucis orto sidere\n\nJohn Blytheman (ca.
  1525–1591)\n•	Eterne rerum\n\nJohn Redford (ca. 1500–1547)\n•	Te
  lucis ante terminum\n\nArnolt Schlick (um 1460 – nach 1521)\n•	Salve
  Regina (mit gesungenem Choral) \n\nVáclav Hřebec (*2000)\n•	Gaude Dei
  Genitrix (im Stil von A. Schlick)\n\nPaul Hofheimer (1459–1537)\n•	O
  Freud verzer\n•	Ave maris stella\n\nOrlando di Lasso (1532–1594) /
  Leonhard Kleber (1495–1526)\n•	In te\, Domine\, speravi\n\nCharles
  Racquet (1598–1664)\n•	Fantasia du 8me ton sur le Regina Coeli
  laetare\n\nEintritt frei\, Kollekte.\n\n\n\nKontakt:
  beat.frefel@ref-sh.ch\n\nWeitere Infos:
  https://www.ref-sh.ch/veranstaltung/185899
SUMMARY:Orgelkonzert
PRIORITY:5
X-MICROSOFT-CDO-IMPORTANCE:1
CLASS:PUBLIC
END:VEVENT
END:VCALENDAR
