BEGIN:VCALENDAR
PRODID:-//kirchenweb.ch gmbh//veranstaltungsausgabe v2.0//DE
VERSION:2.0
METHOD:PUBLISH
BEGIN:VEVENT
DTSTART:20251207T083000Z
DTEND:20251207T150000Z
LOCATION:Gemeindehaussaal\, Gemeindehausplatz 3\, 8214 Gächlingen
TRANSP:OPAQUE
SEQUENCE:0
UID:185888-veranstaltung@ref-sh.ch
DTSTAMP:20250801T184401Z
DESCRIPTION:Kontakt: monika.wieser@ref-sh.ch\n\nWeitere Infos:
  https://www.ref-sh.ch/veranstaltung/185888
SUMMARY:Guetzle mit Mittagesse und Cafébetrieb
PRIORITY:5
X-MICROSOFT-CDO-IMPORTANCE:1
CLASS:PUBLIC
END:VEVENT
END:VCALENDAR
