BEGIN:VCALENDAR
PRODID:-//kirchenweb.ch gmbh//veranstaltungsausgabe v2.0//DE
VERSION:2.0
METHOD:PUBLISH
BEGIN:VEVENT
DTSTART:20251206T083000Z
DTEND:20251206T130000Z
LOCATION:Gemeindehaussaal\, Gemeindehausplatz 3\, 8214 Gächlingen
TRANSP:OPAQUE
SEQUENCE:0
UID:185887-veranstaltung@ref-sh.ch
DTSTAMP:20250801T184221Z
DESCRIPTION:Kontakt: monika.wieser@ref-sh.ch\n\nWeitere Infos:
  https://www.ref-sh.ch/veranstaltung/185887
SUMMARY:Guetzle mit Mittagessen
PRIORITY:5
X-MICROSOFT-CDO-IMPORTANCE:1
CLASS:PUBLIC
END:VEVENT
END:VCALENDAR
