BEGIN:VCALENDAR
PRODID:-//kirchenweb.ch gmbh//veranstaltungsausgabe v2.0//DE
VERSION:2.0
METHOD:PUBLISH
BEGIN:VEVENT
DTSTART:20260705T074500Z
DTEND:20260705T084500Z
LOCATION:Pfarrgarten Löhningen\, Kloster 3\, 8224 Löhningen
TRANSP:OPAQUE
SEQUENCE:0
UID:185865-veranstaltung@ref-sh.ch
DTSTAMP:20260407T153010Z
DESCRIPTION:Abendmahlsgottesdienst mit Pfarrer Lukas Huber im
  Pfarrgarten\, bei ungünstiger Witterung in der Kirche Löhningen.\n\nIm
  Zweifelsfall gibt Telefonnummer 076 813 82 23 Auskunft.\n\nKontakt:
  Pfarrer Lukas Huber\n\nWeitere Infos:
  https://www.ref-sh.ch/veranstaltung/185865
SUMMARY:Abendmahlsgottesdienst im Pfarrgarten
PRIORITY:5
X-MICROSOFT-CDO-IMPORTANCE:1
CLASS:PUBLIC
END:VEVENT
END:VCALENDAR
