BEGIN:VCALENDAR
PRODID:-//kirchenweb.ch gmbh//veranstaltungsausgabe v2.0//DE
VERSION:2.0
METHOD:PUBLISH
BEGIN:VEVENT
DTSTART:20260531T074500Z
DTEND:20260531T084500Z
LOCATION:Kirche Löhningen\, Kloster 3\, 8224 Löhningen
TRANSP:OPAQUE
SEQUENCE:0
UID:185863-veranstaltung@ref-sh.ch
DTSTAMP:20260228T100512Z
DESCRIPTION:Gottesdienst mit Lukas Huber in der Kirche Löhningen.\n
 \nKontakt: Lukas Huber\n\nWeitere Infos:
  https://www.ref-sh.ch/veranstaltung/185863
SUMMARY:Gottesdienst\, anschliessend Kirchgemeinde-Versammlung
PRIORITY:5
X-MICROSOFT-CDO-IMPORTANCE:1
CLASS:PUBLIC
END:VEVENT
END:VCALENDAR
