BEGIN:VCALENDAR
PRODID:-//kirchenweb.ch gmbh//veranstaltungsausgabe v2.0//DE
VERSION:2.0
METHOD:PUBLISH
BEGIN:VEVENT
DTSTART:20260411T080000Z
DTEND:20260411T140000Z
LOCATION:Kirchgemeindehaus Beringen\, Steig 2\, 8222 Beringen
TRANSP:OPAQUE
SEQUENCE:0
UID:185850-veranstaltung@ref-sh.ch
DTSTAMP:20260219T092207Z
DESCRIPTION:Erste Hilfe nach Unfällen zu leisten\, wird in unserer
  Gesellschaft als eine selbstverständliche Aufgabe angesehen. Doch wie
  helfen wir Menschen\, deren Lebensende gekommen ist?\n\nIn diesem Letzte
  Hilfe Kurs lernen Interessierte\, was sie für die ihnen Nahestehenden am
  Ende des Lebens tun können.\n\nWir möchten Grundwissen an die Hand
  geben und ermutigen\, sich Sterbenden zuzuwenden. Wir vermitteln in
  diesem kompakten Kurs Basiswissen\, Orientierungen und einfache
  Handgriffe.\n\nDer Kurs ist kostenlos.\n\nKursleitung:\nBrigitte
  Ochsner\, dipl. Pflegefachfrau\, Spitexleiterin\nzertifizierte
  Kursleiterin\nBeat Frefel\, Seelsorger\nzertifizierter Kursleiter\n
 \nInfos und Anmeldung:\nFabienne Anghel\nSteig 2\n8222 Beringen
 \nhttps://fabienne.anghel@ref-sh.ch\n052 685 01 76\n\nAnmeldeschluss: 2.
  April 2026\n\nWeitere Infos zum Letzte Hilfe Kurs:
  https://www.letztehilfe.ch\n\nKontakt: Brigitte Ochsner\, Beat Frefel\n
 \nWeitere Infos: https://www.ref-sh.ch/veranstaltung/185850
SUMMARY:Letzte Hilfe Kurs
PRIORITY:5
X-MICROSOFT-CDO-IMPORTANCE:1
CLASS:PUBLIC
END:VEVENT
END:VCALENDAR
