BEGIN:VCALENDAR
PRODID:-//kirchenweb.ch gmbh//veranstaltungsausgabe v2.0//DE
VERSION:2.0
METHOD:PUBLISH
BEGIN:VEVENT
DTSTART:20260614T074500Z
DTEND:20260614T084500Z
LOCATION:Kirche Löhningen\, Kloster 3\, 8224 Löhningen
TRANSP:OPAQUE
SEQUENCE:0
UID:185847-veranstaltung@ref-sh.ch
DTSTAMP:20260210T074722Z
DESCRIPTION:Gottesdienst mit Ziitfenschter-Team und Pfarrer Lukas P.
  Huber.\n\n\n\nKontakt: Pfr. Lukas P. Huber\n\nWeitere Infos:
  https://www.ref-sh.ch/veranstaltung/185847
SUMMARY:Ziitfenschter-Gottesdienst
PRIORITY:5
X-MICROSOFT-CDO-IMPORTANCE:1
CLASS:PUBLIC
END:VEVENT
END:VCALENDAR
