BEGIN:VCALENDAR
PRODID:-//kirchenweb.ch gmbh//veranstaltungsausgabe v2.0//DE
VERSION:2.0
METHOD:PUBLISH
BEGIN:VEVENT
DTSTART:20260628T083500Z
DTEND:20260628T093500Z
LOCATION:Grillplatz «Im Tal» Guntmadingen\, Talstrasse\, 8223
  Guntmadingen
TRANSP:OPAQUE
SEQUENCE:0
UID:185846-veranstaltung@ref-sh.ch
DTSTAMP:20260401T152108Z
DESCRIPTION:Tauf-Familiengottesdienst mit den Kindern des
  3.-Klass-Unterrichts sowie mit dem Guntmadinger Familiengottesdienst-Team
  auf dem https://map.search.ch/683870\,281820.\n\nIda Schwaninger
  (Guntmadingen) wird getauft.\n\nBei Regenwetter findet der Gottesdienst
  in der https://map.search.ch/Löhningen\,Kloster-14@683630\,283758 statt.
 \n\nBei unsicherer Witterung gibt Telefonnummer +41 76 813 82 23 am
  Sonntag ab 8 Uhr Auskunft\, wo der Gottesdienst gefeiert wird.\n
 \nAnschliessend Aperitif und Gelegenheit zu grillieren (Essen und Trinken
  selber mitbringen).\n\nDa der Gottesdienst auf einer nicht frisch
  gemähten Wiese mit möglicherweise gut getränktem Untergrund
  stattfindet\, seien Kleider und Schuhe für draussen empfohlen. Der Platz
  bietet wenig Schatten – bei blauem Himmel bitte auf Sonnenschutz
  achten.\n\nDer genaue Gottesdienst- und Grillplatz befindet sich
  https://map.search.ch/683870\,281820\n\nKeine Chindehüeti.\n\nKontakt:
  Pfarrer Lukas Huber\n\nWeitere Infos:
  https://www.ref-sh.ch/veranstaltung/185846
SUMMARY:Tauf-Familiengottesdienst
PRIORITY:5
X-MICROSOFT-CDO-IMPORTANCE:1
CLASS:PUBLIC
END:VEVENT
END:VCALENDAR
