BEGIN:VCALENDAR
PRODID:-//kirchenweb.ch gmbh//veranstaltungsausgabe v2.0//DE
VERSION:2.0
METHOD:PUBLISH
BEGIN:VEVENT
DTSTART:20260426T074500Z
DTEND:20260426T084500Z
LOCATION:Kirche Löhningen\, Kloster 3\, 8224 Löhningen
TRANSP:OPAQUE
SEQUENCE:0
UID:185842-veranstaltung@ref-sh.ch
DTSTAMP:20260305T081812Z
DESCRIPTION:Familiengottesdienst zur Kinderwoche 2026\, mit dem Team
  (Hauptleitung: Beatrice Roost)\, mit den Kindern und mit Pfarrer Lukas
  Huber.\n\nAnschliessend Aperitif.\n\nMusik: Kinderwoche-Musikgrüppli und
  Orgel.\n\n\n\nKontakt: Pfarrer Lukas Huber\n\nWeitere Infos:
  https://www.ref-sh.ch/veranstaltung/185842
SUMMARY:Gottesdienst zum Abschluss der Kinderwoche
PRIORITY:5
X-MICROSOFT-CDO-IMPORTANCE:1
CLASS:PUBLIC
END:VEVENT
END:VCALENDAR
