BEGIN:VCALENDAR
PRODID:-//kirchenweb.ch gmbh//veranstaltungsausgabe v2.0//DE
VERSION:2.0
METHOD:PUBLISH
BEGIN:VEVENT
DTSTART:20260405T074500Z
DTEND:20260405T084500Z
LOCATION:Kirche Löhningen\, Kloster 3\, 8224 Löhningen
TRANSP:OPAQUE
SEQUENCE:0
UID:185840-veranstaltung@ref-sh.ch
DTSTAMP:20260405T100131Z
DESCRIPTION:Abendmahlsgottesdienst zu Ostern\, mit Pfarrer Lukas Huber.
  Musik: Gaby Schilling (Gesang) und Ute Schilling (Orgel und Gesang). Mit
  Osterwitz.\n\nKontakt: Lukas Huber\n\nWeitere Infos:
  https://www.ref-sh.ch/veranstaltung/185840
SUMMARY:Abendmahlsgottesdienst zu Ostern
PRIORITY:5
X-MICROSOFT-CDO-IMPORTANCE:1
CLASS:PUBLIC
END:VEVENT
END:VCALENDAR
