BEGIN:VCALENDAR
PRODID:-//kirchenweb.ch gmbh//veranstaltungsausgabe v2.0//DE
VERSION:2.0
METHOD:PUBLISH
BEGIN:VEVENT
DTSTART:20260403T074500Z
DTEND:20260403T084500Z
LOCATION:Kirche Löhningen\, Kloster 3\, 8224 Löhningen
TRANSP:OPAQUE
SEQUENCE:0
UID:185837-veranstaltung@ref-sh.ch
DTSTAMP:20260403T113444Z
DESCRIPTION:Karfreitags-Abendmahlsgottesdienst. Markus 15 wird
  vorgelesen\, es folgt das Lied «How Can Refuse Him Now» von Larry
  Sparks (geschriebne von Hank Williams). Mit Abendmahl.\n\nKontakt: Lukas
  Huber\n\nWeitere Infos: https://www.ref-sh.ch/veranstaltung/185837
SUMMARY:Karfreitags-Abendmahlsgottesdienst
PRIORITY:5
X-MICROSOFT-CDO-IMPORTANCE:1
CLASS:PUBLIC
END:VEVENT
END:VCALENDAR
