BEGIN:VCALENDAR
PRODID:-//kirchenweb.ch gmbh//veranstaltungsausgabe v2.0//DE
VERSION:2.0
METHOD:PUBLISH
BEGIN:VEVENT
DTSTART:20260215T084500Z
DTEND:20260215T094500Z
LOCATION:Kirche Löhningen\, Kloster 3\, 8224 Löhningen
TRANSP:OPAQUE
SEQUENCE:0
UID:185815-veranstaltung@ref-sh.ch
DTSTAMP:20260217T173317Z
DESCRIPTION:Gottesdienst mit Ziitfenschter-Team.\n\nKontakt: Lukas Huber\n
 \nWeitere Infos: https://www.ref-sh.ch/veranstaltung/185815
SUMMARY:Ziitfenschter-Gottesdienst
PRIORITY:5
X-MICROSOFT-CDO-IMPORTANCE:1
CLASS:PUBLIC
END:VEVENT
END:VCALENDAR
