BEGIN:VCALENDAR
PRODID:-//kirchenweb.ch gmbh//veranstaltungsausgabe v2.0//DE
VERSION:2.0
METHOD:PUBLISH
BEGIN:VEVENT
DTSTART;VALUE=DATE:20250828
DTEND;VALUE=DATE:20250829
LOCATION:\, \,
TRANSP:OPAQUE
SEQUENCE:0
UID:185806-veranstaltung@ref-sh.ch
DTSTAMP:20250730T132231Z
DESCRIPTION:Wir reisen nach Seewen SO und besuchen das
  Musikautomatenmuseum. Nach einem feinen Mittagessen in Dornach gibt's auf
  dem Rhein bei Waldshut eine einstündige Rundfahrt mit Kaffee und Kuchen.
  Nicht verpassen!\n\nAnmeldeschluss: 18. August.\n\nKontakt:
  barbara.erdmann@ref-sh.ch\n\nWeitere Infos:
  https://www.ref-sh.ch/veranstaltung/185806
SUMMARY:Senioren-Tagesausflug nach Seewen
PRIORITY:5
X-MICROSOFT-CDO-IMPORTANCE:1
CLASS:PUBLIC
END:VEVENT
END:VCALENDAR
