BEGIN:VCALENDAR
PRODID:-//kirchenweb.ch gmbh//veranstaltungsausgabe v2.0//DE
VERSION:2.0
METHOD:PUBLISH
BEGIN:VEVENT
DTSTART:20260621T173000Z
DTEND:20260621T190000Z
LOCATION:Siehe Boxenstopp\, \,
TRANSP:OPAQUE
SEQUENCE:0
UID:185704-veranstaltung@ref-sh.ch
DTSTAMP:20250721T150320Z
DESCRIPTION:Der Gottesdienst-Teil vom Boxenstopp. Details und genauer Ort
  siehe verlinkte Veranstaltung.\n\nKontakt: valentin.huber@ref-sh.ch\n
 \nWeitere Infos: https://www.ref-sh.ch/veranstaltung/185704
SUMMARY:Boxenstopp-Gottesdienst
PRIORITY:5
X-MICROSOFT-CDO-IMPORTANCE:1
CLASS:PUBLIC
END:VEVENT
END:VCALENDAR
