BEGIN:VCALENDAR
PRODID:-//kirchenweb.ch gmbh//veranstaltungsausgabe v2.0//DE
VERSION:2.0
METHOD:PUBLISH
BEGIN:VEVENT
DTSTART:20260621T160000Z
DTEND:20260621T190000Z
LOCATION:Kirche Löhningen\, Kloster 3\, 8224 Löhningen
TRANSP:OPAQUE
SEQUENCE:0
UID:185688-veranstaltung@ref-sh.ch
DTSTAMP:20260103T140251Z
DESCRIPTION:Weitere Infos zum Boxenstopp findest du unter boxenstopp.\n
 \nProgramm\n18:00 – Apéro\n18:15 – Znacht\n19:30 – Gottesdienst
 \n21:00 – Snacks und open end\n\nKontakt: Valentin Huber\, Kloster 3\,
  8224 Löhningen\, valentin.huber@ref-sh.ch\, 076 505 34 41\n\nWeitere
  Infos: https://www.ref-sh.ch/veranstaltung/185688
SUMMARY:Boxenstopp und Gemeinde-Gottesdienst
PRIORITY:5
X-MICROSOFT-CDO-IMPORTANCE:1
CLASS:PUBLIC
END:VEVENT
END:VCALENDAR
