BEGIN:VCALENDAR
PRODID:-//kirchenweb.ch gmbh//veranstaltungsausgabe v2.0//DE
VERSION:2.0
METHOD:PUBLISH
BEGIN:VEVENT
DTSTART:20260723T150000Z
DTEND:20260723T180000Z
LOCATION:Hofmeisterhuus\, Eichenstrasse 37\, 8200 Schaffhausen
TRANSP:OPAQUE
SEQUENCE:0
UID:185549-veranstaltung@ref-sh.ch
DTSTAMP:20260402T090325Z
DESCRIPTION:Herzlich willkommen zum gemütlichen Beisammensein im und ums
  Hofmeisterhuus. Alle sind herzlich willkommen!\n\nGetränke\, Grillgut
  und Salate sind vorhanden. \n\nKostenbeitrag: 10.-\n\nWir freuen uns auf
  Sie!\n\nKontakt: Barbara Rohrer Sozialdiakonie\n\nWeitere Infos:
  https://www.ref-sh.ch/veranstaltung/185549
SUMMARY:Sommer-Grillplausch im Hofmeisterhuus
PRIORITY:5
X-MICROSOFT-CDO-IMPORTANCE:1
CLASS:PUBLIC
END:VEVENT
END:VCALENDAR
