BEGIN:VCALENDAR
PRODID:-//kirchenweb.ch gmbh//veranstaltungsausgabe v2.0//DE
VERSION:2.0
METHOD:PUBLISH
BEGIN:VEVENT
DTSTART:20260715T120000Z
DTEND:20260715T140000Z
LOCATION:Hofmeisterhuus\, Eichenstrasse 37\, 8200 Schaffhausen
TRANSP:OPAQUE
SEQUENCE:0
UID:185536-veranstaltung@ref-sh.ch
DTSTAMP:20260114T085812Z
DESCRIPTION:Willkommen zu Kaffee\, Tee und selbstgemachten Kuchen.\nOb
  Klein oder Gross\, von nah oder fern - wir freuen uns auf Sie.\n\nMyrtha
  Haller\, Susanne Siliprandi\, Vreni Sulser\, Lydia Kaufmann\, Maria
  Marti\, Jörg Klaus und Barbara Rohrer\n\nKontakt: Barbara Rohrer
  Sozialdiakonie\n\nWeitere Infos:
  https://www.ref-sh.ch/veranstaltung/185536
SUMMARY:Quartierkafi für alle
PRIORITY:5
X-MICROSOFT-CDO-IMPORTANCE:1
CLASS:PUBLIC
END:VEVENT
END:VCALENDAR
