BEGIN:VCALENDAR
PRODID:-//kirchenweb.ch gmbh//veranstaltungsausgabe v2.0//DE
VERSION:2.0
METHOD:PUBLISH
BEGIN:VEVENT
DTSTART:20260909T100000Z
DTEND:20260909T120000Z
LOCATION:Hofmeisterhuus\, Eichenstrasse 37\, 8200 Schaffhausen
TRANSP:OPAQUE
SEQUENCE:0
UID:185531-veranstaltung@ref-sh.ch
DTSTAMP:20260402T084601Z
DESCRIPTION:«Vergesst die Gastfreundschaft nicht;\ndenn durch sie haben
  einige\,\nohne es zu ahnen\,\nEngel beherbergt!»\nHebr. 13\,2\n\nDieser
  Mittagstisch für alle findet im Hofmeisterhuus an der Eichenstrasse 37
  statt. Lassen Sie sich überraschen von einem "selbst gekochten" und
  zubereiteten Mittagessen in guter Gesellschaft.\n\nWir freuen uns auf
  Sie!\n\nTeam Mittagstisch Ochsenschüür und Team Hofmeisterhuus\n\n
 \nMenu 10.00 Franken pro Person. Kinder in Begleitung Erwachsener essen
  gratis.\n\n\n\n\n\nKontakt: Barbara Rohrer Sozialdiakonie\n\nWeitere
  Infos: https://www.ref-sh.ch/veranstaltung/185531
SUMMARY:Mittagstisch für alle im Hofmeisterhuus
PRIORITY:5
X-MICROSOFT-CDO-IMPORTANCE:1
CLASS:PUBLIC
END:VEVENT
END:VCALENDAR
