BEGIN:VCALENDAR
PRODID:-//kirchenweb.ch gmbh//veranstaltungsausgabe v2.0//DE
VERSION:2.0
METHOD:PUBLISH
BEGIN:VEVENT
DTSTART:20260513T100000Z
DTEND:20260513T120000Z
LOCATION:Ochseschüür\, Pfrundhausgasse 3\, 8200 Schaffhausen
TRANSP:OPAQUE
SEQUENCE:0
UID:185529-veranstaltung@ref-sh.ch
DTSTAMP:20250714T153049Z
DESCRIPTION:«Vergesst die Gastfreundschaft nicht;\ndenn durch sie haben
  einige\,\nohne es zu ahnen\,\nEngel beherbergt!»\n\nHebr. 13\,2\n\n
 \nMenu 15.00 Franken pro Person. Kinder in Begleitung Erwachsener essen
  gratis.\n\nWir freuen uns auf Sie!\n\nVreni Luginbühl\, Heidi Dolder\,
  Isabel Keller\, Vreni Sulser\, Mirella Werner\, Lydia Kaufmann und
  Barbara Rohrer\n\nKontakt: Barbara Rohrer Sozialdiakonie\n\nWeitere
  Infos: https://www.ref-sh.ch/veranstaltung/185529
SUMMARY:Mittagstisch für alle
PRIORITY:5
X-MICROSOFT-CDO-IMPORTANCE:1
CLASS:PUBLIC
END:VEVENT
END:VCALENDAR
