BEGIN:VCALENDAR
PRODID:-//kirchenweb.ch gmbh//veranstaltungsausgabe v2.0//DE
VERSION:2.0
METHOD:PUBLISH
BEGIN:VEVENT
DTSTART:20260517T073000Z
DTEND:20260517T083000Z
LOCATION:Steigkirche\, Nordstrasse 33\, 8200 Schaffhausen
TRANSP:OPAQUE
SEQUENCE:0
UID:185488-veranstaltung@ref-sh.ch
DTSTAMP:20260126T084558Z
DESCRIPTION:Kirchenkaffee\n\nKontakt: Pfr. Stefan Leistner Baumgardt\n
 \nWeitere Infos: https://www.ref-sh.ch/veranstaltung/185488
SUMMARY:Gottesdienst
PRIORITY:5
X-MICROSOFT-CDO-IMPORTANCE:1
CLASS:PUBLIC
END:VEVENT
END:VCALENDAR
