BEGIN:VCALENDAR
PRODID:-//kirchenweb.ch gmbh//veranstaltungsausgabe v2.0//DE
VERSION:2.0
METHOD:PUBLISH
BEGIN:VEVENT
DTSTART:20260628T080000Z
DTEND:20260628T090000Z
LOCATION:Dorfkirche Hallau\, Gartenstrasse\, 8215 Hallau
TRANSP:OPAQUE
SEQUENCE:0
UID:185416-veranstaltung@ref-sh.ch
DTSTAMP:20260326T100657Z
DESCRIPTION:Mit dem Johanniskäfer erkunden wir\, wie Johannes der Täufer
  seinem jüngeren Cousin Jesus neidlos den Weg bereitete und gehen damit
  in die Ferienzeit. Mit Taufen.\n\nKontakt: Pfrn. Wiebke Suter\n\nWeitere
  Infos: https://www.ref-sh.ch/veranstaltung/185416
SUMMARY:Gottesdienst für Gross und Klein "Johanniskäfer als Wegweiser"
PRIORITY:5
X-MICROSOFT-CDO-IMPORTANCE:1
CLASS:PUBLIC
END:VEVENT
END:VCALENDAR
