BEGIN:VCALENDAR
PRODID:-//kirchenweb.ch gmbh//veranstaltungsausgabe v2.0//DE
VERSION:2.0
METHOD:PUBLISH
BEGIN:VEVENT
DTSTART:20250917T113000Z
DTEND:20250917T141500Z
LOCATION:Unterrichtszimmer bei der Dorfkirche\, Hammermauer 17\, 8215
  Hallau
TRANSP:OPAQUE
SEQUENCE:0
UID:185355-veranstaltung@ref-sh.ch
DTSTAMP:20250710T164958Z
DESCRIPTION:Kontakt: Arlette Neukomm und Ruth Stoll\n\nWeitere Infos:
  https://www.ref-sh.ch/veranstaltung/185355
SUMMARY:3. Klass-Unti / 4. Klass-Unti
PRIORITY:5
X-MICROSOFT-CDO-IMPORTANCE:1
CLASS:PUBLIC
END:VEVENT
END:VCALENDAR
