BEGIN:VCALENDAR
PRODID:-//kirchenweb.ch gmbh//veranstaltungsausgabe v2.0//DE
VERSION:2.0
METHOD:PUBLISH
BEGIN:VEVENT
DTSTART:20250906T070000Z
DTEND:20250906T103000Z
LOCATION:Unterrichtszimmer bei der Dorfkirche\, Hammermauer 17\, 8215
  Hallau
TRANSP:OPAQUE
SEQUENCE:0
UID:185269-veranstaltung@ref-sh.ch
DTSTAMP:20250708T140646Z
DESCRIPTION:Kontakt: Pfrn. Wiebke Suter\n\nWeitere Infos:
  https://www.ref-sh.ch/veranstaltung/185269
SUMMARY:5. Klass-Unti  / 6. Klass-Unti YouGo vorbereiten
PRIORITY:5
X-MICROSOFT-CDO-IMPORTANCE:1
CLASS:PUBLIC
END:VEVENT
END:VCALENDAR
