BEGIN:VCALENDAR
PRODID:-//kirchenweb.ch gmbh//veranstaltungsausgabe v2.0//DE
VERSION:2.0
METHOD:PUBLISH
BEGIN:VEVENT
DTSTART:20260524T074500Z
DTEND:20260524T084500Z
LOCATION:Kirche\, \,  Buchberg-Rüdlingen
TRANSP:OPAQUE
SEQUENCE:0
UID:185184-veranstaltung@ref-sh.ch
DTSTAMP:20260316T130133Z
DESCRIPTION:Taufe von Heidi Schluchter\n\n\nHistorische Führung zum Thema
  Kirche Buchberg-Rüdlingen\n24. Mai 2026\, 13.35 - 15.00 Uhr\nIn rund 90
  Minuten erhalten Sie einen vertieften Einblick in die Geschichte der
  Kirche Buchberg-Rüdlingen. Sie steht an einem ausserordentlich schönen
  Ort und hat viel gesehen: Pilger\, Pest und andere Katastrophen haben sie
  nicht kleingekriegt. Und das fast seit 1000 Jahren.\n\nVeranstaltung im
  Rahmen des Regionalen Naturparks\nKosten CHF 20.-\, Ermässigungen werden
  angeboten\nVeranstalterin: Karin Lüthi-Graf aus Rüdlingen\,
  https://karinluethi.jimdofree.com\nTreffpunkt: Friedhof der Kirche\n
 \nKontakt: Beat Frefel\n\nWeitere Infos:
  https://www.ref-sh.ch/veranstaltung/185184
SUMMARY:Pfingstgottesdienst mit Abendmahl
PRIORITY:5
X-MICROSOFT-CDO-IMPORTANCE:1
CLASS:PUBLIC
END:VEVENT
END:VCALENDAR
