BEGIN:VCALENDAR
PRODID:-//kirchenweb.ch gmbh//veranstaltungsausgabe v2.0//DE
VERSION:2.0
METHOD:PUBLISH
BEGIN:VEVENT
DTSTART:20260510T173000Z
DTEND:20260510T183000Z
LOCATION:Kirche\, \,  Buchberg-Rüdlingen
TRANSP:OPAQUE
SEQUENCE:0
UID:185181-veranstaltung@ref-sh.ch
DTSTAMP:20260317T150059Z
DESCRIPTION:Kontakt: Barbara Erdmann\n\nWeitere Infos:
  https://www.ref-sh.ch/veranstaltung/185181
SUMMARY:Abendgottesdienst zum Muttertag
PRIORITY:5
X-MICROSOFT-CDO-IMPORTANCE:1
CLASS:PUBLIC
END:VEVENT
END:VCALENDAR
