BEGIN:VCALENDAR
PRODID:-//kirchenweb.ch gmbh//veranstaltungsausgabe v2.0//DE
VERSION:2.0
METHOD:PUBLISH
BEGIN:VEVENT
DTSTART:20260503T074500Z
DTEND:20260503T084500Z
LOCATION:Kirche\, \,  Buchberg-Rüdlingen
TRANSP:OPAQUE
SEQUENCE:0
UID:185180-veranstaltung@ref-sh.ch
DTSTAMP:20260316T125956Z
DESCRIPTION:Kontakt: Stephanie Lemke-Signer\n\nWeitere Infos:
  https://www.ref-sh.ch/veranstaltung/185180
SUMMARY:Gottesdienst
PRIORITY:5
X-MICROSOFT-CDO-IMPORTANCE:1
CLASS:PUBLIC
END:VEVENT
END:VCALENDAR
