BEGIN:VCALENDAR
PRODID:-//kirchenweb.ch gmbh//veranstaltungsausgabe v2.0//DE
VERSION:2.0
METHOD:PUBLISH
BEGIN:VEVENT
DTSTART:20260419T074500Z
DTEND:20260419T084500Z
LOCATION:Kirche\, \,  Buchberg-Rüdlingen
TRANSP:OPAQUE
SEQUENCE:0
UID:185178-veranstaltung@ref-sh.ch
DTSTAMP:20260316T125855Z
DESCRIPTION:Anschliessend Chilekaffi\n\nKontakt: Stephanie Lemke-Signer\n
 \nWeitere Infos: https://www.ref-sh.ch/veranstaltung/185178
SUMMARY:Gottesdienst
PRIORITY:5
X-MICROSOFT-CDO-IMPORTANCE:1
CLASS:PUBLIC
END:VEVENT
END:VCALENDAR
