BEGIN:VCALENDAR
PRODID:-//kirchenweb.ch gmbh//veranstaltungsausgabe v2.0//DE
VERSION:2.0
METHOD:PUBLISH
BEGIN:VEVENT
DTSTART:20260322T160000Z
DTEND:20260322T170000Z
LOCATION:Kirche\, \,  Buchberg-Rüdlingen
TRANSP:OPAQUE
SEQUENCE:0
UID:185172-veranstaltung@ref-sh.ch
DTSTAMP:20260119T105338Z
DESCRIPTION:Wir haben gleich zwei Chöre in unserem Gottesdienst: Der
  Rainbowchor singt in bewährter und begeisternder Manier und der Kinder-
  und Jugendchor Pop-Up unter der Leitung von Rahel Vollenweider setzt der
  Veranstaltung dasjenige Tüpfelchen auf\, das uns nachher sagen lässt:
  Zum Glück sind wir dabei gewesen! Wetten?\n\nAnschliessend Apéro.\n\n
 \nKontakt: Fredy Fehr\, Christian Sprecher\, Beat Frefel\n\nWeitere Infos:
  https://www.ref-sh.ch/veranstaltung/185172
SUMMARY:Gospelgottesdienst mit Rainbowchor und Pop up Chor
PRIORITY:5
X-MICROSOFT-CDO-IMPORTANCE:1
CLASS:PUBLIC
END:VEVENT
END:VCALENDAR
