BEGIN:VCALENDAR
PRODID:-//kirchenweb.ch gmbh//veranstaltungsausgabe v2.0//DE
VERSION:2.0
METHOD:PUBLISH
BEGIN:VEVENT
DTSTART:20261024T060000Z
DTEND:20261024T215500Z
LOCATION:Münster\, Münsterplatz\, 8200 Schaffhausen
TRANSP:OPAQUE
SEQUENCE:0
UID:185157-veranstaltung@ref-sh.ch
DTSTAMP:20251112T082248Z
DESCRIPTION:Die «Pilger- und Kirchennacht»: Halloween\, alternativ. \n
 \nIm ehemaligen Benediktinerkloster zu Allerheiligen tauchen wir in die
  Welt des Mittelalters ein. Einen Tag als Mönch und Nonne\, Novizin oder
  Abt\, Priorin oder Gastpater leben. Workshops zum Kloster in der
  Stadtbibliothek zeigen uns einige der wertvollen Handschriften aus der
  Klosterschule. \n\nDen Nachmittag beginnen wir mit einer Exkursion zur
  Bergkirche St. Michael in Büsingen. Hier kam das Christentum im Ausklang
  der Antike und frühen Mittelalter in unsere Gegend. In der Mutterkirche
  Schaffhausens starten wir unsere Pilgerreise. Wir erwandern auf dem Weg
  rheinabwärts zum St. Johann den Glauben mit unseren Füssen und
  schmecken ihn mit allen Sinnen. \n\nIm Workshop zur Orgel können die
  Jugendlichen eine kleine Orgel zusammenbauen und lernen die
  Funktionsweise der Königin der Instrumente kennen. \n\nAm Abend feiern
  wir die Nachtwache mit Gesängen aus Taizé\, der grossen ökumenischen
  monastischen Jugendbewegung unserer Zeit. \n\nDie Übernachtung im
  Münster bildet einen weiteren Höhepunkt dieses reich gefüllten Tages. 
 \nEin reichhaltiges Frühstück für die ganze Familie erwartet uns am
  Sonntag in der Münsterkirche und anschliessend der Familiengottesdienst
  im St. Johann.\n\nKontakt: Pfarrer Roland Diethelm\n\nWeitere Infos:
  https://www.ref-sh.ch/veranstaltung/185157
SUMMARY:Pilgertag und Kirchennacht. Exkursion der Sechstklässler.
PRIORITY:5
X-MICROSOFT-CDO-IMPORTANCE:1
CLASS:PUBLIC
END:VEVENT
END:VCALENDAR
