BEGIN:VCALENDAR
PRODID:-//kirchenweb.ch gmbh//veranstaltungsausgabe v2.0//DE
VERSION:2.0
METHOD:PUBLISH
BEGIN:VEVENT
DTSTART:20260214T090000Z
DTEND:20260214T150000Z
LOCATION:Pfarrhaus Münster\, Münsterplatz 32\, 8200 Schaf
TRANSP:OPAQUE
SEQUENCE:0
UID:185142-veranstaltung@ref-sh.ch
DTSTAMP:20250704T204744Z
DESCRIPTION:In der Siebten Klasse interessieren uns die Zusammenhänge
  zwischen Menschenbild und Glauben. Bei den Heroes in der „Tanne“
  lernen wir Menschen kennen\, die mit besonderen Herausforderungen und
  ihren Begabungen und Fähigkeiten zusammenarbeiten. Teilweise sind sie
  ganz anders als unsere\, aber dann auch wieder überraschend ähnlich.
  Aus der Begegnung bringen die Siebtklässler ihre Überlegungen in den
  Familiengottesdienst am Sonntag ein. \n\nKontakt: Pfarrer Roland Diethelm
 \n\nWeitere Infos: https://www.ref-sh.ch/veranstaltung/185142
SUMMARY:Begegnung Siebtklässler und Heroes der Tanne
PRIORITY:5
X-MICROSOFT-CDO-IMPORTANCE:1
CLASS:PUBLIC
END:VEVENT
END:VCALENDAR
