BEGIN:VCALENDAR
PRODID:-//kirchenweb.ch gmbh//veranstaltungsausgabe v2.0//DE
VERSION:2.0
METHOD:PUBLISH
BEGIN:VEVENT
DTSTART:20261031T190000Z
DTEND:20261031T210000Z
LOCATION:Münster\, Münsterplatz\, 8200 Schaffhausen
TRANSP:OPAQUE
SEQUENCE:0
UID:185141-veranstaltung@ref-sh.ch
DTSTAMP:20260401T103052Z
DESCRIPTION:Die Nacht der Lichter: ein Lichtermeer aus Kerzen im
  stimmungsvollen Münster\, Ikonen und meditative Gesänge aus Taizé\,
  Stille und Worte aus der Heiligen Schrift in verschiedenen Sprachen: eine
  einzigartige Gelegenheit\, Gott zu begegnen. \nJugendliche und
  Junggebliebene haben die Möglichkeit\, sich vorne auf den Boden zu
  setzen. Bänke\, Sitzkissen beim Kerzenleuchter\, Bodenheizung und
  Teppiche machen den Winterabend bequem. Die Konfirmandinnen und
  Konfirmanden empfangen und begleiten uns durch die Feier.\n\n\nKontakt:
  Pfarrer Roland Diethelm\n\nWeitere Infos:
  https://www.ref-sh.ch/veranstaltung/185141
SUMMARY:Nacht der Lichter / ökumenischer Taizé-Gottesdienst zu
  Allerheiligen
PRIORITY:5
X-MICROSOFT-CDO-IMPORTANCE:1
CLASS:PUBLIC
END:VEVENT
END:VCALENDAR
