BEGIN:VCALENDAR
PRODID:-//kirchenweb.ch gmbh//veranstaltungsausgabe v2.0//DE
VERSION:2.0
METHOD:PUBLISH
BEGIN:VEVENT
DTSTART:20260523T190000Z
DTEND:20260523T210000Z
LOCATION:Münster\, Münsterplatz\, 8200 Schaffhausen
TRANSP:OPAQUE
SEQUENCE:0
UID:185140-veranstaltung@ref-sh.ch
DTSTAMP:20260331T144336Z
DESCRIPTION:Die Nacht der Lichter: ein Lichtermeer aus Kerzen im
  stimmungsvollen Münster\, Ikonen und meditative Gesänge aus Taizé\,
  Stille und Worte aus der Heiligen Schrift in verschiedenen Sprachen: eine
  einzigartige Gelegenheit\, Gott zu begegnen.\nJugendliche und
  Junggebliebene haben die Möglichkeit\, sich vorne auf den Boden zu
  setzen. Bänke\, Sitzkissen beim Kerzenleuchter und Teppiche machen den
  Sommerabend bequem. Das Pfingstfeuer im Klostergarten macht ihn
  unvergesslich. Die Konfirmandinnen und Konfirmanden empfangen und
  begleiten uns durch die Feier.\n\nEintreffen ab 20:30 Uhr im Münster
 \nDie Feier beginnt um 21 Uhr am Pfingstfeuer bei der Schillerglocke und
  dauert bis ca. 22.15 Uhr\, danach Erfrischungen und Getränke am Feuer
  und offener Ausklang in der Münsterkirche bis gegen 23 Uhr\n\nKontakt:
  Pfarrer Roland Diethelm\n\nWeitere Infos:
  https://www.ref-sh.ch/veranstaltung/185140
SUMMARY:Nacht der Lichter: ökumenischer Taizé-Gottesdienst im Münster
  am Vorabend von Pfingsten
PRIORITY:5
X-MICROSOFT-CDO-IMPORTANCE:1
CLASS:PUBLIC
END:VEVENT
END:VCALENDAR
