BEGIN:VCALENDAR
PRODID:-//kirchenweb.ch gmbh//veranstaltungsausgabe v2.0//DE
VERSION:2.0
METHOD:PUBLISH
BEGIN:VEVENT
DTSTART:20260509T120000Z
DTEND:20260509T140000Z
LOCATION:St.Johann\, Kirchhofplatz\, 8200 Schaffhausen
TRANSP:OPAQUE
SEQUENCE:0
UID:185136-veranstaltung@ref-sh.ch
DTSTAMP:20260122T192112Z
DESCRIPTION:Heute bereiten wir uns auf den Familiengottesdienst vor. Die
  Drittklässler und Viertklässler treffen sich in der Kirche St. Johann.
 \n\nKontakt: Pfarrer Roland Diethelm\n\nWeitere Infos:
  https://www.ref-sh.ch/veranstaltung/185136
SUMMARY:Vorbereitung Familiengottesdienst
PRIORITY:5
X-MICROSOFT-CDO-IMPORTANCE:1
CLASS:PUBLIC
END:VEVENT
END:VCALENDAR
