BEGIN:VCALENDAR
PRODID:-//kirchenweb.ch gmbh//veranstaltungsausgabe v2.0//DE
VERSION:2.0
METHOD:PUBLISH
BEGIN:VEVENT
DTSTART;VALUE=DATE:20260504
DTEND;VALUE=DATE:20260505
LOCATION:Rom\, \,
TRANSP:OPAQUE
SEQUENCE:0
UID:185107-veranstaltung@ref-sh.ch
DTSTAMP:20250704T195157Z
DESCRIPTION:Zum Abschluss des Konf-Jahres über Pfingsten reisen wir nach
  Rom und sind dort auf den Spuren der Alten Kirche in einer spannenden
  Stadt unterwegs.\n\nKontakt: Pfarrer Roland Diethelm\n\nWeitere Infos:
  https://www.ref-sh.ch/veranstaltung/185107
SUMMARY:Abschluss-Exkursion KonfUnterricht nach Rom
PRIORITY:5
X-MICROSOFT-CDO-IMPORTANCE:1
CLASS:PUBLIC
END:VEVENT
END:VCALENDAR
