BEGIN:VCALENDAR
PRODID:-//kirchenweb.ch gmbh//veranstaltungsausgabe v2.0//DE
VERSION:2.0
METHOD:PUBLISH
BEGIN:VEVENT
DTSTART:20250928T093000Z
DTEND:20250928T103000Z
LOCATION:Generationentreff\, Schlatterweg 11\, 8240 Thayngen
TRANSP:OPAQUE
SEQUENCE:0
UID:185067-veranstaltung@ref-sh.ch
DTSTAMP:20250704T153014Z
DESCRIPTION:Mittagessen für ALLE im Generationentreff - mit Anmeldung im
  Sekretariat bis am ... Tel. 052 649 16 58\n\nKontakt: C. Jäggi\n
 \nWeitere Infos: https://www.ref-sh.ch/veranstaltung/185067
SUMMARY:Mittagessen gemeinsam
PRIORITY:5
X-MICROSOFT-CDO-IMPORTANCE:1
CLASS:PUBLIC
END:VEVENT
END:VCALENDAR
