BEGIN:VCALENDAR
PRODID:-//kirchenweb.ch gmbh//veranstaltungsausgabe v2.0//DE
VERSION:2.0
METHOD:PUBLISH
BEGIN:VEVENT
DTSTART:20260429T053000Z
DTEND:20260429T061500Z
LOCATION:Emmersbergschulhaus\, \, 8200 Schaffhausen
TRANSP:OPAQUE
SEQUENCE:0
UID:184976-veranstaltung@ref-sh.ch
DTSTAMP:20250701T152844Z
DESCRIPTION:Kontakt: Gabriela Fahrni Katechetin\n\nWeitere Infos:
  https://www.ref-sh.ch/veranstaltung/184976
SUMMARY:Religionsunterricht Drittklässler Mittwoch
PRIORITY:5
X-MICROSOFT-CDO-IMPORTANCE:1
CLASS:PUBLIC
END:VEVENT
END:VCALENDAR
