BEGIN:VCALENDAR
PRODID:-//kirchenweb.ch gmbh//veranstaltungsausgabe v2.0//DE
VERSION:2.0
METHOD:PUBLISH
BEGIN:VEVENT
DTSTART:20260430T053000Z
DTEND:20260430T061500Z
LOCATION:Hofmeisterhuus\, Eichenstrasse 37\, 8200 Schaffhausen
TRANSP:OPAQUE
SEQUENCE:0
UID:184939-veranstaltung@ref-sh.ch
DTSTAMP:20250701T152030Z
DESCRIPTION:Kontakt: Gabriela Fahrni Katechetin\n\nWeitere Infos:
  https://www.ref-sh.ch/veranstaltung/184939
SUMMARY:Religionsunterricht Drittklässler Donnerstag
PRIORITY:5
X-MICROSOFT-CDO-IMPORTANCE:1
CLASS:PUBLIC
END:VEVENT
END:VCALENDAR
