BEGIN:VCALENDAR
PRODID:-//kirchenweb.ch gmbh//veranstaltungsausgabe v2.0//DE
VERSION:2.0
METHOD:PUBLISH
BEGIN:VEVENT
DTSTART:20260428T133000Z
DTEND:20260428T143000Z
LOCATION:Pfarrhaustreff\, Dorfstrasse 4\, 8454 Buchberg
TRANSP:OPAQUE
SEQUENCE:0
UID:184853-veranstaltung@ref-sh.ch
DTSTAMP:20250630T092742Z
DESCRIPTION:Kontakt: Barbara Erdmann\n\nWeitere Infos:
  https://www.ref-sh.ch/veranstaltung/184853
SUMMARY:5. Klassunti
PRIORITY:5
X-MICROSOFT-CDO-IMPORTANCE:1
CLASS:PUBLIC
END:VEVENT
END:VCALENDAR
