BEGIN:VCALENDAR
PRODID:-//kirchenweb.ch gmbh//veranstaltungsausgabe v2.0//DE
VERSION:2.0
METHOD:PUBLISH
BEGIN:VEVENT
DTSTART:20260516T090000Z
DTEND:20260516T094500Z
LOCATION:St. Johann - Kirche\, \,
TRANSP:OPAQUE
SEQUENCE:0
UID:184706-veranstaltung@ref-sh.ch
DTSTAMP:20260415T145801Z
DESCRIPTION:«Singen mit Bach» - Offenes Singen für Alle im Rahmen des
  Internationalen Bachfestes. Mitwirkende: Konzertchor und Neuhauser
  Kantorei unter der Leitung von Guido Helbling\, Orgel: Andreas Jud\n
 \nVerschiedene Bachchoräle werden aufgeführt und die Anwesenden sind zum
  Mitsingen eingeladen.\n\nKontakt: Pfarrerin Ute Nürnberg\n\nWeitere
  Infos: https://www.ref-sh.ch/veranstaltung/184706
SUMMARY:Offenes Singen im Rahmen des Bachfestes
PRIORITY:5
X-MICROSOFT-CDO-IMPORTANCE:1
CLASS:PUBLIC
END:VEVENT
END:VCALENDAR
