BEGIN:VCALENDAR
PRODID:-//kirchenweb.ch gmbh//veranstaltungsausgabe v2.0//DE
VERSION:2.0
METHOD:PUBLISH
BEGIN:VEVENT
DTSTART:20260510T153000Z
DTEND:20260510T163000Z
LOCATION:Reformierte Kirche\, Zentralstrasse 22\, 8212 Neuhausen
TRANSP:OPAQUE
SEQUENCE:0
UID:184668-veranstaltung@ref-sh.ch
DTSTAMP:20250627T161218Z
DESCRIPTION:Kontakt: Pfr. Matthias Koch\n\nWeitere Infos:
  https://www.ref-sh.ch/veranstaltung/184668
SUMMARY:Jugendgottesdienst TeensChurch
PRIORITY:5
X-MICROSOFT-CDO-IMPORTANCE:1
CLASS:PUBLIC
END:VEVENT
END:VCALENDAR
