BEGIN:VCALENDAR
PRODID:-//kirchenweb.ch gmbh//veranstaltungsausgabe v2.0//DE
VERSION:2.0
METHOD:PUBLISH
BEGIN:VEVENT
DTSTART:20260526T173000Z
DTEND:20260526T184500Z
LOCATION:Pfarrhaus Münsterplatz \, Münsterplatz 32\, 8200 Schaffhausen
TRANSP:OPAQUE
SEQUENCE:0
UID:184587-veranstaltung@ref-sh.ch
DTSTAMP:20250627T153118Z
DESCRIPTION:Das neunte und damit letzte obligatorische Schuljahr steht bei
  uns im Zeichen der Themen „Taufe\, Glaube und Kirche“. Die
  Konfirmandenzeit bietet gute Gelegenheit zum gemeinsamen Diskutieren und
  für tiefe Erlebnisse: Ihr seid nochmals mit eurem Jahrgang zusammen und
  lernt neue Orte und Menschen kennen.\n\nDer KonfUnti findet regelmässig
  jede Woche ausser in den Schulferien statt mit einem spirituellen
  Abschluss im Chor der Münsterkirche. \n\nKontakt: Pfarrer Roland
  Diethelm\n\nWeitere Infos: https://www.ref-sh.ch/veranstaltung/184587
SUMMARY:Konfirmandenunterricht
PRIORITY:5
X-MICROSOFT-CDO-IMPORTANCE:1
CLASS:PUBLIC
END:VEVENT
END:VCALENDAR
