BEGIN:VCALENDAR
PRODID:-//kirchenweb.ch gmbh//veranstaltungsausgabe v2.0//DE
VERSION:2.0
METHOD:PUBLISH
BEGIN:VEVENT
DTSTART:20260225T110000Z
DTEND:20260225T140000Z
LOCATION:Pfarrhaus Münsterplatz \, Münsterplatz 32\, 8200 Schaffhausen
TRANSP:OPAQUE
SEQUENCE:0
UID:184521-veranstaltung@ref-sh.ch
DTSTAMP:20250627T153057Z
DESCRIPTION:Die Bibel als spannendes Buch und Forschungsobjekt steht im
  Mittelpunkt unseres Unterrichts. Die Geschichte vom Auszug aus Ägypten
  in die Freiheit und die Reformbewegung des Nazareners beschäftigen uns
  und unsere Phantasie. \n\n\nKontakt: Pfarrer Roland Diethelm\n\nWeitere
  Infos: https://www.ref-sh.ch/veranstaltung/184521
SUMMARY:Religionsunterricht Fünftklässler
PRIORITY:5
X-MICROSOFT-CDO-IMPORTANCE:1
CLASS:PUBLIC
END:VEVENT
END:VCALENDAR
