BEGIN:VCALENDAR
PRODID:-//kirchenweb.ch gmbh//veranstaltungsausgabe v2.0//DE
VERSION:2.0
METHOD:PUBLISH
BEGIN:VEVENT
DTSTART:20260906T074500Z
DTEND:20260906T084500Z
LOCATION:Kirche Löhningen\, Kloster 3\, 8224 Löhningen
TRANSP:OPAQUE
SEQUENCE:0
UID:184499-veranstaltung@ref-sh.ch
DTSTAMP:20260210T075123Z
DESCRIPTION:Gemeinsamer Gottesdienst der Kirchgemeinden Beringen\,
  Löhningen-Guntmadingen\, Neunkirch\, Gächlingen und Oberhallau zusammen
  mit der Jungen Kirche Klettgau\, dem gemeinsamen Jugendbereich der fünf
  Kirchgemeinden.\n\nDie Pfarrpersonen der Kirchgemeinden wirken mit\,
  ebenso Mitarbeiterinnen und Mitarbeiter der Jungen Kirche Klettgau.\n
 \nKontakt: Pfarrer Lukas Huber\n\nWeitere Infos:
  https://www.ref-sh.ch/veranstaltung/184499
SUMMARY:Fünf-Gemeinde-Gottesdienst mit der Jungen Kirche Klettgau
PRIORITY:5
X-MICROSOFT-CDO-IMPORTANCE:1
CLASS:PUBLIC
END:VEVENT
END:VCALENDAR
